BEGIN:VCALENDAR
VERSION:2.0
PRODID:-//Icebreaker Mackinaw Maritime Museum - ECPv6.15.20//NONSGML v1.0//EN
CALSCALE:GREGORIAN
METHOD:PUBLISH
X-ORIGINAL-URL:https://themackinaw.org
X-WR-CALDESC:Events for Icebreaker Mackinaw Maritime Museum
REFRESH-INTERVAL;VALUE=DURATION:PT1H
X-Robots-Tag:noindex
X-PUBLISHED-TTL:PT1H
BEGIN:VTIMEZONE
TZID:America/Detroit
BEGIN:DAYLIGHT
TZOFFSETFROM:-0500
TZOFFSETTO:-0400
TZNAME:EDT
DTSTART:20250309T070000
END:DAYLIGHT
BEGIN:STANDARD
TZOFFSETFROM:-0400
TZOFFSETTO:-0500
TZNAME:EST
DTSTART:20251102T060000
END:STANDARD
BEGIN:DAYLIGHT
TZOFFSETFROM:-0500
TZOFFSETTO:-0400
TZNAME:EDT
DTSTART:20260308T070000
END:DAYLIGHT
BEGIN:STANDARD
TZOFFSETFROM:-0400
TZOFFSETTO:-0500
TZNAME:EST
DTSTART:20261101T060000
END:STANDARD
BEGIN:DAYLIGHT
TZOFFSETFROM:-0500
TZOFFSETTO:-0400
TZNAME:EDT
DTSTART:20270314T070000
END:DAYLIGHT
BEGIN:STANDARD
TZOFFSETFROM:-0400
TZOFFSETTO:-0500
TZNAME:EST
DTSTART:20271107T060000
END:STANDARD
END:VTIMEZONE
BEGIN:VEVENT
DTSTART;TZID=America/Detroit:20260626T160000
DTEND;TZID=America/Detroit:20260626T170000
DTSTAMP:20260421T130643
CREATED:20260303T195510Z
LAST-MODIFIED:20260306T024721Z
UID:1009-1782489600-1782493200@themackinaw.org
SUMMARY:History Happy Hour: Mike Fornes
DESCRIPTION:Join us for a special History Happy Hour featuring Northern Michigan author and journalist Mike Fornes\, whose book USCGC Mackinaw WAGB-83: An Illustrated History of a Great Lakes Queen tells the story of one of the most iconic ships on the Great Lakes. \nFornes spent 26 years covering both Coast Guard icebreakers named Mackinaw for several Northern Michigan media outlets\, including the Cheboygan Daily Tribune. As a frequent guest aboard the icebreakers\, he sailed with the crews and witnessed firsthand the shiphandling\, seamanship\, and icebreaking techniques used by these remarkable vessels. \nDuring this engaging talk\, Fornes will share stories from his reporting\, experiences aboard the Mackinaw\, and insights into the history of these legendary ships—all in a relaxed happy-hour atmosphere perfect for conversation and storytelling. \nThis event will feature an author talk\, storytelling\, and time for questions with one of the region’s most knowledgeable voices on the Mackinaw. \nFree event
URL:https://themackinaw.org/event/history-happy-hour-mike-fornes/
LOCATION:MI
ATTACH;FMTTYPE=image/jpeg:https://themackinaw.org/wp-content/uploads/2026/03/Mike-Fornes1-300x225-1.jpg
END:VEVENT
END:VCALENDAR