BEGIN:VCALENDAR
VERSION:2.0
PRODID:-//Icebreaker Mackinaw Maritime Museum - ECPv6.15.20//NONSGML v1.0//EN
CALSCALE:GREGORIAN
METHOD:PUBLISH
X-WR-CALNAME:Icebreaker Mackinaw Maritime Museum
X-ORIGINAL-URL:https://themackinaw.org
X-WR-CALDESC:Events for Icebreaker Mackinaw Maritime Museum
REFRESH-INTERVAL;VALUE=DURATION:PT1H
X-Robots-Tag:noindex
X-PUBLISHED-TTL:PT1H
BEGIN:VTIMEZONE
TZID:America/Detroit
BEGIN:DAYLIGHT
TZOFFSETFROM:-0500
TZOFFSETTO:-0400
TZNAME:EDT
DTSTART:20250309T070000
END:DAYLIGHT
BEGIN:STANDARD
TZOFFSETFROM:-0400
TZOFFSETTO:-0500
TZNAME:EST
DTSTART:20251102T060000
END:STANDARD
BEGIN:DAYLIGHT
TZOFFSETFROM:-0500
TZOFFSETTO:-0400
TZNAME:EDT
DTSTART:20260308T070000
END:DAYLIGHT
BEGIN:STANDARD
TZOFFSETFROM:-0400
TZOFFSETTO:-0500
TZNAME:EST
DTSTART:20261101T060000
END:STANDARD
BEGIN:DAYLIGHT
TZOFFSETFROM:-0500
TZOFFSETTO:-0400
TZNAME:EDT
DTSTART:20270314T070000
END:DAYLIGHT
BEGIN:STANDARD
TZOFFSETFROM:-0400
TZOFFSETTO:-0500
TZNAME:EST
DTSTART:20271107T060000
END:STANDARD
END:VTIMEZONE
BEGIN:VEVENT
DTSTART;TZID=America/Detroit:20260629T080000
DTEND;TZID=America/Detroit:20260704T170000
DTSTAMP:20260421T130137
CREATED:20260303T200301Z
LAST-MODIFIED:20260306T030114Z
UID:1020-1782720000-1783184400@themackinaw.org
SUMMARY:Art Show: Straits of America!
DESCRIPTION:A Kids Art Show Celebrating America 250 & the Straits of Mackinac\nIn celebration of America’s 250th anniversary\, we invite young artists to explore the past\, present\, and future of our nation through a local lens—the Straits of Mackinac! \nStraits of America! asks students to imagine how the Straits connect people\, places\, and stories across 250 years of American history. From tall ships and lighthouses to bridges\, legends\, and bold future visions\, this theme is open to creativity\, imagination\, and fun. \nArt Display | Free Admission
URL:https://themackinaw.org/event/art-show-straits-of-america/
LOCATION:MI
END:VEVENT
BEGIN:VEVENT
DTSTART;TZID=America/Detroit:20260701T100000
DTEND;TZID=America/Detroit:20260701T170000
DTSTAMP:20260421T130137
CREATED:20260303T200947Z
LAST-MODIFIED:20260306T030609Z
UID:1025-1782900000-1782925200@themackinaw.org
SUMMARY:We "SEE" you day!
DESCRIPTION:Join us for a special community day focused on vision care and service. The Mackinaw City Lions Club will provide free vision screenings for children during museum hours. \nVisitors will also receive free museum admission when they donate a pair of gently used eyeglasses\, helping support Lions Club programs that provide vision care to those in need. \nCome support a great cause while enjoying a day aboard the ship. \n  \nFree Museum Admission with a donation of a pair of gently used eyeglasses.
URL:https://themackinaw.org/event/we-see-you-day/
LOCATION:Icebreaker Mackinaw Maritime Museum\, 131 S Huron Ave\, Mackinaw City\, MI\, 49701\, United States
ATTACH;FMTTYPE=image/jpeg:https://themackinaw.org/wp-content/uploads/2026/03/we-see-you-1.jpg
END:VEVENT
END:VCALENDAR