BEGIN:VCALENDAR
VERSION:2.0
PRODID:-//Icebreaker Mackinaw Maritime Museum - ECPv6.15.20//NONSGML v1.0//EN
CALSCALE:GREGORIAN
METHOD:PUBLISH
X-ORIGINAL-URL:https://themackinaw.org
X-WR-CALDESC:Events for Icebreaker Mackinaw Maritime Museum
REFRESH-INTERVAL;VALUE=DURATION:PT1H
X-Robots-Tag:noindex
X-PUBLISHED-TTL:PT1H
BEGIN:VTIMEZONE
TZID:America/Detroit
BEGIN:DAYLIGHT
TZOFFSETFROM:-0500
TZOFFSETTO:-0400
TZNAME:EDT
DTSTART:20250309T070000
END:DAYLIGHT
BEGIN:STANDARD
TZOFFSETFROM:-0400
TZOFFSETTO:-0500
TZNAME:EST
DTSTART:20251102T060000
END:STANDARD
BEGIN:DAYLIGHT
TZOFFSETFROM:-0500
TZOFFSETTO:-0400
TZNAME:EDT
DTSTART:20260308T070000
END:DAYLIGHT
BEGIN:STANDARD
TZOFFSETFROM:-0400
TZOFFSETTO:-0500
TZNAME:EST
DTSTART:20261101T060000
END:STANDARD
BEGIN:DAYLIGHT
TZOFFSETFROM:-0500
TZOFFSETTO:-0400
TZNAME:EDT
DTSTART:20270314T070000
END:DAYLIGHT
BEGIN:STANDARD
TZOFFSETFROM:-0400
TZOFFSETTO:-0500
TZNAME:EST
DTSTART:20271107T060000
END:STANDARD
END:VTIMEZONE
BEGIN:VEVENT
DTSTART;TZID=America/Detroit:20260830T130000
DTEND;TZID=America/Detroit:20260830T150000
DTSTAMP:20260421T152057
CREATED:20260303T191218Z
LAST-MODIFIED:20260305T042819Z
UID:984-1788094800-1788102000@themackinaw.org
SUMMARY:Rosie the Riveter Experience
DESCRIPTION:Roll up your sleeves and step into history! Join us aboard the ship to meet Rosie the Riveter\, the enduring symbol of the millions of women who helped power the nation during World War II. \nLearn about the women who worked in shipyards\, factories\, and support roles that kept vessels like the Mackinaw operating during her years of service. This special program highlights the determination\, skill\, and teamwork of the women who helped build and support America’s fleet. \nVisitors can chat with Rosie\, ask questions\, and take photos while discovering the powerful stories behind the famous “We Can Do It!” spirit. \nIncluded with regular museum admission.
URL:https://themackinaw.org/event/rosie-the-riveter-experience/
LOCATION:Icebreaker Mackinaw Maritime Museum\, 131 S Huron Ave\, Mackinaw City\, MI\, 49701\, United States
ATTACH;FMTTYPE=image/jpeg:https://themackinaw.org/wp-content/uploads/2026/03/Screenshot-2026-03-03-at-2.11.30-PM.jpg
END:VEVENT
END:VCALENDAR