BEGIN:VCALENDAR
VERSION:2.0
PRODID:-//Icebreaker Mackinaw Maritime Museum - ECPv6.15.20//NONSGML v1.0//EN
CALSCALE:GREGORIAN
METHOD:PUBLISH
X-WR-CALNAME:Icebreaker Mackinaw Maritime Museum
X-ORIGINAL-URL:https://themackinaw.org
X-WR-CALDESC:Events for Icebreaker Mackinaw Maritime Museum
REFRESH-INTERVAL;VALUE=DURATION:PT1H
X-Robots-Tag:noindex
X-PUBLISHED-TTL:PT1H
BEGIN:VTIMEZONE
TZID:America/Detroit
BEGIN:DAYLIGHT
TZOFFSETFROM:-0500
TZOFFSETTO:-0400
TZNAME:EDT
DTSTART:20250309T070000
END:DAYLIGHT
BEGIN:STANDARD
TZOFFSETFROM:-0400
TZOFFSETTO:-0500
TZNAME:EST
DTSTART:20251102T060000
END:STANDARD
BEGIN:DAYLIGHT
TZOFFSETFROM:-0500
TZOFFSETTO:-0400
TZNAME:EDT
DTSTART:20260308T070000
END:DAYLIGHT
BEGIN:STANDARD
TZOFFSETFROM:-0400
TZOFFSETTO:-0500
TZNAME:EST
DTSTART:20261101T060000
END:STANDARD
BEGIN:DAYLIGHT
TZOFFSETFROM:-0500
TZOFFSETTO:-0400
TZNAME:EDT
DTSTART:20270314T070000
END:DAYLIGHT
BEGIN:STANDARD
TZOFFSETFROM:-0400
TZOFFSETTO:-0500
TZNAME:EST
DTSTART:20271107T060000
END:STANDARD
END:VTIMEZONE
BEGIN:VEVENT
DTSTART;TZID=America/Detroit:20261003T100000
DTEND;TZID=America/Detroit:20261003T170000
DTSTAMP:20260421T170351
CREATED:20260303T202648Z
LAST-MODIFIED:20260305T041238Z
UID:1043-1791021600-1791046800@themackinaw.org
SUMMARY:Boo on the Boat
DESCRIPTION:Climb aboard for a spooktacular Halloween adventure at the museum ship! Boo on the Boat invites ghosts\, goblins\, pirates\, princesses\, and superheroes of all ages to enjoy trick-or-treating throughout the ship. Wander the decks\, explore the passageways\, and collect sweet treats at festive stations along the way. \nWear your favorite costume—we’ll be dressed up too! It’s a fun and family-friendly way to celebrate the Halloween season while exploring the ship in a whole new way. \nFree for members / Included with regular ship admission. \nBring the whole crew and celebrate Halloween with treats\, costumes\, and a little nautical fun! 🎃👻⚓
URL:https://themackinaw.org/event/boo-on-the-boat/
LOCATION:Icebreaker Mackinaw Maritime Museum\, 131 S Huron Ave\, Mackinaw City\, MI\, 49701\, United States
END:VEVENT
BEGIN:VEVENT
DTSTART;TZID=America/Detroit:20261003T120000
DTEND;TZID=America/Detroit:20261003T160000
DTSTAMP:20260421T170351
CREATED:20260303T184655Z
LAST-MODIFIED:20260305T041625Z
UID:958-1791028800-1791043200@themackinaw.org
SUMMARY:October's First Friday: Volunteer Day
DESCRIPTION:Lend a hand and help keep history afloat! Join us for Volunteer Day\, a casual and welcoming opportunity to support the museum and the historic ship. \nVolunteers can jump in for one hour or stay the whole afternoon—every bit of help makes a difference. Projects change each month and may include paper shredding\, painting\, organizing supplies\, light cleaning\, and other hands-on tasks that help care for the ship and museum. \nNo experience is necessary\, and all ages are welcome. Whether you’re looking to give back\, earn volunteer hours\, or simply spend time doing something meaningful\, we’d love to have you aboard. \nFree to participate.\nSign up through our volunteer form and join the crew!
URL:https://themackinaw.org/event/octobers-first-friday-volunteer-day/
LOCATION:Icebreaker Mackinaw Maritime Museum\, 131 S Huron Ave\, Mackinaw City\, MI\, 49701\, United States
ATTACH;FMTTYPE=image/jpeg:https://themackinaw.org/wp-content/uploads/2026/03/kids-paint.jpg
END:VEVENT
END:VCALENDAR